BEGIN:VCALENDAR
VERSION:2.0
PRODID:-//Triad Film Collaborative - ECPv6.15.20//NONSGML v1.0//EN
CALSCALE:GREGORIAN
METHOD:PUBLISH
X-WR-CALNAME:Triad Film Collaborative
X-ORIGINAL-URL:https://triadfilm.org
X-WR-CALDESC:Events for Triad Film Collaborative
REFRESH-INTERVAL;VALUE=DURATION:PT1H
X-Robots-Tag:noindex
X-PUBLISHED-TTL:PT1H
BEGIN:VTIMEZONE
TZID:UTC
BEGIN:STANDARD
TZOFFSETFROM:+0000
TZOFFSETTO:+0000
TZNAME:UTC
DTSTART:20190101T000000
END:STANDARD
END:VTIMEZONE
BEGIN:VEVENT
DTSTART;TZID=UTC:20200710T190000
DTEND;TZID=UTC:20200712T193000
DTSTAMP:20260421T123942
CREATED:20200606T023103Z
LAST-MODIFIED:20200606T023248Z
UID:297-1594407600-1594582200@triadfilm.org
SUMMARY:Greensboro 48 Hour Film Project
DESCRIPTION:The 48 Hour Film Project challenges filmmakers around the world to make a short film in 48 hours. Teams register in advance\, and at the kick-off teams draw a genre\, and are given a character\, prop\, and line of dialogue to include in their films.  All films submitted are screened and judges determine various awards including “Best Film” which then represents the city at Filmapalooza\, the international competition.
URL:https://triadfilm.org/event/greensboro-48-hour-film-project/
LOCATION:NC
END:VEVENT
END:VCALENDAR