BEGIN:VCALENDAR
VERSION:2.0
PRODID:-//Triad Film Collaborative - ECPv6.15.20//NONSGML v1.0//EN
CALSCALE:GREGORIAN
METHOD:PUBLISH
X-ORIGINAL-URL:https://triadfilm.org
X-WR-CALDESC:Events for Triad Film Collaborative
REFRESH-INTERVAL;VALUE=DURATION:PT1H
X-Robots-Tag:noindex
X-PUBLISHED-TTL:PT1H
BEGIN:VTIMEZONE
TZID:UTC
BEGIN:STANDARD
TZOFFSETFROM:+0000
TZOFFSETTO:+0000
TZNAME:UTC
DTSTART:20190101T000000
END:STANDARD
END:VTIMEZONE
BEGIN:VEVENT
DTSTART;TZID=UTC:20200812T190000
DTEND;TZID=UTC:20200812T210000
DTSTAMP:20260421T112032
CREATED:20200723T013559Z
LAST-MODIFIED:20200723T013600Z
UID:330-1597258800-1597266000@triadfilm.org
SUMMARY:Screenwriting Group
DESCRIPTION:Regular Weekly* meeting of TFC screenwriters. Two writers will present 10 to 15 pages of material to be read for constructive feedback.Zoom Meeting\, link will be sent out via Messenger on day of meeting\, so please RSVP as “going” on Facebook to get link.
URL:https://triadfilm.org/event/screenwriting-group-10/
LOCATION:NC
CATEGORIES:Filmmaking,Screenwriting
END:VEVENT
END:VCALENDAR