BEGIN:VCALENDAR
VERSION:2.0
PRODID:-//Triad Film Collaborative - ECPv6.15.20//NONSGML v1.0//EN
CALSCALE:GREGORIAN
METHOD:PUBLISH
X-WR-CALNAME:Triad Film Collaborative
X-ORIGINAL-URL:https://triadfilm.org
X-WR-CALDESC:Events for Triad Film Collaborative
REFRESH-INTERVAL;VALUE=DURATION:PT1H
X-Robots-Tag:noindex
X-PUBLISHED-TTL:PT1H
BEGIN:VTIMEZONE
TZID:UTC
BEGIN:STANDARD
TZOFFSETFROM:+0000
TZOFFSETTO:+0000
TZNAME:UTC
DTSTART:20190101T000000
END:STANDARD
END:VTIMEZONE
BEGIN:VEVENT
DTSTART;TZID=UTC:20200604T190000
DTEND;TZID=UTC:20200604T203000
DTSTAMP:20260421T124047
CREATED:20200606T022048Z
LAST-MODIFIED:20200606T022049Z
UID:293-1591297200-1591302600@triadfilm.org
SUMMARY:TFC General Membership Meeting
DESCRIPTION:In addition to discussion on local events and projects\, a panel of four screenwriters will provide discussion and answer questions regarding their field of the film industry.
URL:https://triadfilm.org/event/tfc-general-membership-meeting/
LOCATION:NC
END:VEVENT
BEGIN:VEVENT
DTSTART;TZID=UTC:20200605T080000
DTEND;TZID=UTC:20200605T170000
DTSTAMP:20260421T124047
CREATED:20200606T022538Z
LAST-MODIFIED:20200606T022539Z
UID:295-1591344000-1591376400@triadfilm.org
SUMMARY:TFC General Membership Meeting
DESCRIPTION:Gain insights into current happenings among the film community\, get assistance with your project needs more at this monthly meeting. Also gain insights with a panel discussion on “Pre-Production Paperwork Guide – shot lists\, story boards\, and more!”
URL:https://triadfilm.org/event/tfc-general-membership-meeting-2/
LOCATION:NC
END:VEVENT
BEGIN:VEVENT
DTSTART;TZID=UTC:20200605T140000
DTEND;TZID=UTC:20200605T170000
DTSTAMP:20260421T124047
CREATED:20200606T023728Z
LAST-MODIFIED:20200606T023728Z
UID:301-1591365600-1591376400@triadfilm.org
SUMMARY:TFC "No Words" Visual Film Challenge
DESCRIPTION:The event kicks off today and filmmakers have until 11:59 p.m. June 30 to create a short film without spoken dialogue. Details are on the Facebook event page.
URL:https://triadfilm.org/event/tfc-no-words-visual-film-challenge/
LOCATION:NC
ORGANIZER;CN="Stephen van Vuuren":MAILTO:stephen@sv2studios.com
END:VEVENT
BEGIN:VEVENT
DTSTART;TZID=UTC:20200610T190000
DTEND;TZID=UTC:20200610T210000
DTSTAMP:20260421T124047
CREATED:20200605T225322Z
LAST-MODIFIED:20200605T225950Z
UID:275-1591815600-1591822800@triadfilm.org
SUMMARY:Screenwriting Group
DESCRIPTION:Regular Weekly meeting of TFC screenwriters. Two writers will present 10 to 15 pages of material to be read for constructive feedback.Zoom Meeting\, link will be sent out via Messenger on day of meeting\, so please RSVP as “going” on Facebook to get link.
URL:https://triadfilm.org/event/screenwriters-group/
LOCATION:NC
END:VEVENT
BEGIN:VEVENT
DTSTART;TZID=UTC:20200617T190000
DTEND;TZID=UTC:20200617T210000
DTSTAMP:20260421T124047
CREATED:20200605T225820Z
LAST-MODIFIED:20200605T225821Z
UID:277-1592420400-1592427600@triadfilm.org
SUMMARY:Screenwriting Group
DESCRIPTION:Regular Weekly meeting of TFC screenwriters. Two writers will present 10 to 15 pages of material to be read for constructive feedback.Zoom Meeting\, link will be sent out via Messenger on day of meeting\, so please RSVP as “going” on Facebook to get link.
URL:https://triadfilm.org/event/screenwriting-group-4/
LOCATION:NC
END:VEVENT
BEGIN:VEVENT
DTSTART;TZID=UTC:20200618T190000
DTEND;TZID=UTC:20200618T210000
DTSTAMP:20260421T124047
CREATED:20200606T021535Z
LAST-MODIFIED:20200611T014827Z
UID:289-1592506800-1592514000@triadfilm.org
SUMMARY:Contracts and Paperwork
DESCRIPTION:Contracts and Paperwork – Join us for review and discussion of various contracts used in the film industry. We will specifically cover the 48 Hour Film Project paperwork which also offers good insights in what is used in other filmmaking settings. Meetings are held on Zoom until further notice. RSVP on the Facebook website or email info@triadfilm.com to receive log in information.
URL:https://triadfilm.org/event/tfc-triad-a-v-group-2/
LOCATION:NC
END:VEVENT
BEGIN:VEVENT
DTSTART;TZID=UTC:20200624T190000
DTEND;TZID=UTC:20200624T210000
DTSTAMP:20260421T124047
CREATED:20200605T230124Z
LAST-MODIFIED:20200605T230125Z
UID:281-1593025200-1593032400@triadfilm.org
SUMMARY:Screenwriting Group
DESCRIPTION:Regular Weekly meeting of TFC screenwriters. Two writers will present 10 to 15 pages of material to be read for constructive feedback.Zoom Meeting\, link will be sent out via Messenger on day of meeting\, so please RSVP as “going” on Facebook to get link.
URL:https://triadfilm.org/event/screenwriting-group-5/
LOCATION:NC
END:VEVENT
BEGIN:VEVENT
DTSTART;TZID=UTC:20200625T140000
DTEND;TZID=UTC:20200625T153000
DTSTAMP:20260421T124047
CREATED:20200618T153234Z
LAST-MODIFIED:20200618T153314Z
UID:311-1593093600-1593099000@triadfilm.org
SUMMARY:Virtual Town Hall Meeting
DESCRIPTION:Understand and Respond to COVID-19 – Impact on Triad Film Industry and Community \n\n\n\nHosted by Triad Film Collaborative with the Piedmont Triad Film Commission
URL:https://triadfilm.org/event/virtual-town-hall-meeting/
LOCATION:NC
ORGANIZER;CN="Stephen van Vuuren":MAILTO:stephen@sv2studios.com
END:VEVENT
BEGIN:VEVENT
DTSTART;TZID=UTC:20200630T223000
DTEND;TZID=UTC:20200630T235900
DTSTAMP:20260421T124047
CREATED:20200606T024021Z
LAST-MODIFIED:20200606T024022Z
UID:303-1593556200-1593561540@triadfilm.org
SUMMARY:Films Due for "No Words" Challenge
DESCRIPTION:Films created for the “No Words” Visual Film Challenge are due by midnight. Details can be found on the TFC Facebook Event Site.
URL:https://triadfilm.org/event/films-due-for-no-words-challenge/
LOCATION:NC
ORGANIZER;CN="Stephen van Vuuren":MAILTO:stephen@sv2studios.com
END:VEVENT
END:VCALENDAR