BEGIN:VCALENDAR
VERSION:2.0
PRODID:-//Triad Film Collaborative - ECPv6.15.20//NONSGML v1.0//EN
CALSCALE:GREGORIAN
METHOD:PUBLISH
X-WR-CALNAME:Triad Film Collaborative
X-ORIGINAL-URL:https://triadfilm.org
X-WR-CALDESC:Events for Triad Film Collaborative
REFRESH-INTERVAL;VALUE=DURATION:PT1H
X-Robots-Tag:noindex
X-PUBLISHED-TTL:PT1H
BEGIN:VTIMEZONE
TZID:America/New_York
BEGIN:DAYLIGHT
TZOFFSETFROM:-0500
TZOFFSETTO:-0400
TZNAME:EDT
DTSTART:20190310T070000
END:DAYLIGHT
BEGIN:STANDARD
TZOFFSETFROM:-0400
TZOFFSETTO:-0500
TZNAME:EST
DTSTART:20191103T060000
END:STANDARD
BEGIN:DAYLIGHT
TZOFFSETFROM:-0500
TZOFFSETTO:-0400
TZNAME:EDT
DTSTART:20200308T070000
END:DAYLIGHT
BEGIN:STANDARD
TZOFFSETFROM:-0400
TZOFFSETTO:-0500
TZNAME:EST
DTSTART:20201101T060000
END:STANDARD
BEGIN:DAYLIGHT
TZOFFSETFROM:-0500
TZOFFSETTO:-0400
TZNAME:EDT
DTSTART:20210314T070000
END:DAYLIGHT
BEGIN:STANDARD
TZOFFSETFROM:-0400
TZOFFSETTO:-0500
TZNAME:EST
DTSTART:20211107T060000
END:STANDARD
END:VTIMEZONE
BEGIN:VTIMEZONE
TZID:UTC
BEGIN:STANDARD
TZOFFSETFROM:+0000
TZOFFSETTO:+0000
TZNAME:UTC
DTSTART:20190101T000000
END:STANDARD
END:VTIMEZONE
BEGIN:VEVENT
DTSTART;TZID=America/New_York:20200805T190000
DTEND;TZID=America/New_York:20200805T210000
DTSTAMP:20260421T095805
CREATED:20200723T013307Z
LAST-MODIFIED:20200723T013355Z
UID:327-1596654000-1596661200@triadfilm.org
SUMMARY:Screenwriting Group
DESCRIPTION:Regular Weekly* meeting of TFC screenwriters. Two writers will present 10 to 15 pages of material to be read for constructive feedback.Zoom Meeting\, link will be sent out via Messenger on day of meeting\, so please RSVP as “going” on Facebook to get link.
URL:https://triadfilm.org/event/screenwriting-group-9/
LOCATION:NC
END:VEVENT
BEGIN:VEVENT
DTSTART;TZID=America/New_York:20200806T190000
DTEND;TZID=America/New_York:20200806T203000
DTSTAMP:20260421T095805
CREATED:20200723T020210Z
LAST-MODIFIED:20200723T020349Z
UID:339-1596740400-1596745800@triadfilm.org
SUMMARY:Membership Meeting
DESCRIPTION:Join us for our monthly membership meeting and for information on Production Design and Art Direction with Shelby Treichler.
URL:https://triadfilm.org/event/membership-meeting/
LOCATION:NC
CATEGORIES:Education,Filmmaking,Meetings
END:VEVENT
BEGIN:VEVENT
DTSTART;TZID=UTC:20200812T190000
DTEND;TZID=UTC:20200812T210000
DTSTAMP:20260421T095805
CREATED:20200723T013559Z
LAST-MODIFIED:20200723T013600Z
UID:330-1597258800-1597266000@triadfilm.org
SUMMARY:Screenwriting Group
DESCRIPTION:Regular Weekly* meeting of TFC screenwriters. Two writers will present 10 to 15 pages of material to be read for constructive feedback.Zoom Meeting\, link will be sent out via Messenger on day of meeting\, so please RSVP as “going” on Facebook to get link.
URL:https://triadfilm.org/event/screenwriting-group-10/
LOCATION:NC
CATEGORIES:Filmmaking,Screenwriting
END:VEVENT
BEGIN:VEVENT
DTSTART;TZID=UTC:20200819T190000
DTEND;TZID=UTC:20200819T210000
DTSTAMP:20260421T095805
CREATED:20200723T013743Z
LAST-MODIFIED:20200723T013744Z
UID:332-1597863600-1597870800@triadfilm.org
SUMMARY:Screenwriting Group
DESCRIPTION:Regular Weekly* meeting of TFC screenwriters. Two writers will present 10 to 15 pages of material to be read for constructive feedback.Zoom Meeting\, link will be sent out via Messenger on day of meeting\, so please RSVP as “going” on Facebook to get link.
URL:https://triadfilm.org/event/screenwriting-group-11/
LOCATION:NC
CATEGORIES:Filmmaking,Screenings
END:VEVENT
BEGIN:VEVENT
DTSTART;TZID=UTC:20200820T190000
DTEND;TZID=UTC:20200820T210000
DTSTAMP:20260421T095805
CREATED:20200618T160212Z
LAST-MODIFIED:20200618T160213Z
UID:315-1597950000-1597957200@triadfilm.org
SUMMARY:PTFC: What's it to you?
DESCRIPTION:Learn about the Piedmont Triad Film Commission and its services with Executive Director Rebecca Clark
URL:https://triadfilm.org/event/ptfc-whats-it-to-you/
LOCATION:NC
END:VEVENT
BEGIN:VEVENT
DTSTART;TZID=UTC:20200826T190000
DTEND;TZID=UTC:20200826T210000
DTSTAMP:20260421T095805
CREATED:20200723T013902Z
LAST-MODIFIED:20200723T013903Z
UID:334-1598468400-1598475600@triadfilm.org
SUMMARY:Screenwriting Group
DESCRIPTION:Regular Weekly* meeting of TFC screenwriters. Two writers will present 10 to 15 pages of material to be read for constructive feedback.Zoom Meeting\, link will be sent out via Messenger on day of meeting\, so please RSVP as “going” on Facebook to get link.
URL:https://triadfilm.org/event/screenwriting-group-12/
LOCATION:NC
CATEGORIES:Filmmaking,Screenings
END:VEVENT
END:VCALENDAR